BEGIN:VCALENDAR
VERSION:2.0
PRODID:-//Horse Driving Trials Inc - ECPv4.5.1//NONSGML v1.0//EN
CALSCALE:GREGORIAN
METHOD:PUBLISH
X-WR-CALNAME:Horse Driving Trials Inc
X-ORIGINAL-URL:http://horsedrivingtrials.com.au
X-WR-CALDESC:Events for Horse Driving Trials Inc
BEGIN:VEVENT
DTSTART;VALUE=DATE:20170604
DTEND;VALUE=DATE:20170604
DTSTAMP:20200228T093620
CREATED:20170505T065934Z
LAST-MODIFIED:20170603T010050Z
UID:2464-1496534400-1496620799@horsedrivingtrials.com.au
SUMMARY:Grafton Ribbon Day
DESCRIPTION:Come and Join the Horse Driving Trials for another great Ribbon Day. Last year this was a great event with many competitors coming out to brave the first weekend of Winter.\nThe day will start with Dressage from 8am with everyone driving the EA Novice 1 Dressage Test.\nThis year we have a special JUNIOR Class\, therefore\, please encourage all young drivers to come out and have a go at what is going to be a great day.\nMembers $20 entry (+$5/additional entry)\nNon Members (Event Only Members) $30 (+$5/additional entry) - All Drivers welcome including ACDS Members\n\nHawthorne Rodeo Park\, South Grafton\n\nNOTE* - Club Meeting to be held Saturday 3rd June evening in Grafton - Club Members see email for further information.
URL:http://horsedrivingtrials.com.au/event/another-sample-event/
LOCATION:Hawthorne Rodeo Park\, South Grafton\, NSW\, 2460\, Australia
CATEGORIES:Location,Unofficial Event
ATTACH;FMTTYPE=image/jpeg:http://horsedrivingtrials.com.au/wp-content/uploads/2017/06/Ribbon-Day.jpg
ORGANIZER;CN="Patsy%20Wicks":MAILTO:patsywicks@bigpond.com.au
END:VEVENT
END:VCALENDAR