BEGIN:VCALENDAR
VERSION:2.0
PRODID:-//Horse Driving Trials Inc - ECPv4.5.1//NONSGML v1.0//EN
CALSCALE:GREGORIAN
METHOD:PUBLISH
X-WR-CALNAME:Horse Driving Trials Inc
X-ORIGINAL-URL:http://horsedrivingtrials.com.au
X-WR-CALDESC:Events for Horse Driving Trials Inc
BEGIN:VEVENT
DTSTART;TZID=UTC+0:20170708T080000
DTEND;TZID=UTC+0:20170806T150000
DTSTAMP:20200228T094033
CREATED:20170603T005820Z
LAST-MODIFIED:20170801T012614Z
UID:2489-1499500800-1502031600@horsedrivingtrials.com.au
SUMMARY:Grafton Rally Day - Obstathon
DESCRIPTION:The Horse Driving Trials Club welcomes all to come down to Grafton for your chance to practice your precision skills. Our Rally days are open to all with one of our very skilled Club Coaches on hand to help you master the art of precision.
URL:http://horsedrivingtrials.com.au/event/grafton-rally-day-cones-obstacles/
LOCATION:Hawthorne Rodeo Park\, South Grafton\, NSW\, 2460\, Australia
CATEGORIES:Location,Unofficial Event
ATTACH;FMTTYPE=image/jpeg:http://horsedrivingtrials.com.au/wp-content/uploads/2017/06/Rally-Day.jpg
ORGANIZER;CN="Patsy%20Wicks":MAILTO:patsywicks@bigpond.com.au
END:VEVENT
END:VCALENDAR