BEGIN:VCALENDAR
VERSION:2.0
PRODID:-//Horse Driving Trials Inc - ECPv4.5.1//NONSGML v1.0//EN
CALSCALE:GREGORIAN
METHOD:PUBLISH
X-WR-CALNAME:Horse Driving Trials Inc
X-ORIGINAL-URL:http://horsedrivingtrials.com.au
X-WR-CALDESC:Events for Horse Driving Trials Inc
BEGIN:VEVENT
DTSTART;VALUE=DATE:20170513
DTEND;VALUE=DATE:20170513
DTSTAMP:20200228T094151
CREATED:20170505T065805Z
LAST-MODIFIED:20170505T065805Z
UID:2461-1494633600-1494719999@horsedrivingtrials.com.au
SUMMARY:Sample Event
DESCRIPTION:This is a sample Event
URL:http://horsedrivingtrials.com.au/event/sample-event/
LOCATION:Hawthorne Rodeo Park\, South Grafton\, NSW\, 2460\, Australia
ATTACH;FMTTYPE=image/jpeg:http://horsedrivingtrials.com.au/wp-content/uploads/2017/04/CD611257.jpg
END:VEVENT
END:VCALENDAR