BEGIN:VCALENDAR
VERSION:2.0
PRODID:-//Horse Driving Trials Inc - ECPv4.5.1//NONSGML v1.0//EN
CALSCALE:GREGORIAN
METHOD:PUBLISH
X-WR-CALNAME:Horse Driving Trials Inc
X-ORIGINAL-URL:http://horsedrivingtrials.com.au
X-WR-CALDESC:Events for Horse Driving Trials Inc
BEGIN:VEVENT
DTSTART;TZID=UTC+0:20190804T090000
DTEND;TZID=UTC+0:20190804T140000
DTSTAMP:20200228T100354
CREATED:20180101T070250Z
LAST-MODIFIED:20190724T081310Z
UID:2641-1564909200-1564927200@horsedrivingtrials.com.au
SUMMARY:Uralla Training Day - August
DESCRIPTION:The Horse Driving Trials Club invites all level of drivers from beginners and those interested to know more about Competition Carriage Driving right through to the seasoned drivers to join us in Uralla for our monthly training day. Our training days cover different elements of driving throughout the year and we have experienced coaches and judges on hand to put you and your horse/pony through their paces in a safe and supportive environment.\n\nThe focus for this month will be dressage.\n\nOur club members are located all over Northern NSW and we welcome new drivers as well as other club drivers to join us at our regular training days.\n\nBe sure to check out our Facebook Page to keep up to date with all that the club has going on also.
URL:http://horsedrivingtrials.com.au/event/uralla-training-day-september/
LOCATION:8 King St\, Uralla\, NSW\, 2358\, Australia
CATEGORIES:Training Day
END:VEVENT
END:VCALENDAR